BEGIN:VCALENDAR
VERSION:2.0
PRODID:-/MCW.edu/Events/CalendarEventsIcs
CALSCALE:GREGORIAN
TZ:+00
BEGIN:VEVENT
UID:9b78436a-20ef-43b7-a909-7a08c31e5bbb
STATUS:CONFIRMED
SEQUENCE:0
DTSTAMP:20260424T092950Z
DTSTART:20260625T160000
DTEND:20260625T180000
LOCATION:Hub A1015/A1035
SUMMARY:Eye Institute Vision Science Forum
DESCRIPTION:Join us for a Vision Science Forum featuring a talk from the Greenberg Lab.
URL:www.mcw.edu/events/eye-institute-vision-science-forum-june-25
END:VEVENT
END:VCALENDAR
