BEGIN:VCALENDAR
VERSION:2.0
PRODID:-/MCW.edu/Events/CalendarEventsIcs
CALSCALE:GREGORIAN
TZ:+00
BEGIN:VEVENT
UID:e99d08d0-5634-4912-b246-5ed76c5a6b7d
STATUS:CONFIRMED
SEQUENCE:0
DTSTAMP:20260423T065803Z
DTSTART:20260506T120000
DTEND:20260506T130000
LOCATION:Hub A6520/A6628
8701 Watertown Plank Rd.
Wauwatosa, Wisconsin 53226
SUMMARY:Neuroscience Research Center Seminar
DESCRIPTION:Francesca Marassi, PhD | Neuroscience Research Center Seminar
GEO:43.04403;-88.02103
URL:www.mcw.edu/events/nrc-seminar-marassi-may-6
END:VEVENT
END:VCALENDAR
